BEGIN:VCALENDAR
VERSION:2.0
PRODID:-//Union Club Hotel - ECPv4.2.2//NONSGML v1.0//EN
CALSCALE:GREGORIAN
METHOD:PUBLISH
X-WR-CALNAME:Union Club Hotel
X-ORIGINAL-URL:http://unionhotelwagga.com.au
X-WR-CALDESC:Events for Union Club Hotel
BEGIN:VEVENT
DTSTART;TZID=Australia/Sydney:20190223T213000
DTEND;TZID=Australia/Sydney:20190223T235500
DTSTAMP:20190228T121113
CREATED:20190118T011901
LAST-MODIFIED:20190118T011901
UID:1192-1550957400-1550966100@unionhotelwagga.com.au
SUMMARY:Saturday Night's Gig - Rockit!
DESCRIPTION:
URL:http://unionhotelwagga.com.au/event/saturday-nights-gig-rockit/
LOCATION:122 Baylis St\, Wagga Wagga\, NSW\, 2650\, Australia
CATEGORIES:Live Music
END:VEVENT
END:VCALENDAR