BEGIN:VCALENDAR
VERSION:2.0
PRODID:-//Union Club Hotel - ECPv4.2.2//NONSGML v1.0//EN
CALSCALE:GREGORIAN
METHOD:PUBLISH
X-WR-CALNAME:Union Club Hotel
X-ORIGINAL-URL:http://unionhotelwagga.com.au
X-WR-CALDESC:Events for Union Club Hotel
BEGIN:VEVENT
DTSTART;TZID=Australia/Sydney:20190202T213000
DTEND;TZID=Australia/Sydney:20190202T235500
DTSTAMP:20190228T120628
CREATED:20190118T010606
LAST-MODIFIED:20190118T010606
UID:1190-1549143000-1549151700@unionhotelwagga.com.au
SUMMARY:Saturday Night's Gig - The Dangleberry's
DESCRIPTION:
URL:http://unionhotelwagga.com.au/event/saturday-nights-gig-dangleberrys/
LOCATION:122 Baylis St\, Wagga Wagga\, NSW\, 2650\, Australia
CATEGORIES:Live Music
END:VEVENT
END:VCALENDAR