BEGIN:VCALENDAR
VERSION:2.0
PRODID:-//Union Club Hotel - ECPv4.2.2//NONSGML v1.0//EN
CALSCALE:GREGORIAN
METHOD:PUBLISH
X-WR-CALNAME:Union Club Hotel
X-ORIGINAL-URL:http://unionhotelwagga.com.au
X-WR-CALDESC:Events for Union Club Hotel
BEGIN:VEVENT
DTSTART;TZID=Australia/Sydney:20190126T213000
DTEND;TZID=Australia/Sydney:20190126T235500
DTSTAMP:20190228T111442
CREATED:20160511T133916
LAST-MODIFIED:20190118T005117
UID:205-1548538200-1548546900@unionhotelwagga.com.au
SUMMARY:Saturday Nights Gig - Deja Groove
DESCRIPTION:Of all the Musicians in Australia\, the members of Deja Groove are rumoured to be among them. Established during the Boer War\, Deja Groove was soon discovered to be fibbing. Dionne is adverse to altitude\, Justin is the eldest of one child\, Luke is a former Jedi\, Adrian has never used the word "girt" and Lee once met someone of importance. Their vast collection of pop and rock songs\, great live sound and necessity to have fun is guaranteed to please all...Deja Groove is a totally live experience!
URL:http://unionhotelwagga.com.au/event/deja-groove-8/
LOCATION:122 Baylis St\, Wagga Wagga\, NSW\, 2650\, Australia
CATEGORIES:Live Music
ATTACH;FMTTYPE=image/jpeg:http://unionhotelwagga.com.au/wp-content/uploads/2016/12/Deja-Groove.jpg
END:VEVENT
END:VCALENDAR