BEGIN:VCALENDAR
VERSION:2.0
PRODID:-//Union Club Hotel - ECPv4.2.2//NONSGML v1.0//EN
CALSCALE:GREGORIAN
METHOD:PUBLISH
X-WR-CALNAME:Union Club Hotel
X-ORIGINAL-URL:http://unionhotelwagga.com.au
X-WR-CALDESC:Events for Union Club Hotel
BEGIN:VEVENT
DTSTART;TZID=Australia/Sydney:20181222T213000
DTEND;TZID=Australia/Sydney:20181222T235500
DTSTAMP:20190228T114404
CREATED:20170331T020050
LAST-MODIFIED:20181120T045814
UID:605-1545514200-1545522900@unionhotelwagga.com.au
SUMMARY:Saturday Nights Gig - Mattress
DESCRIPTION:
URL:http://unionhotelwagga.com.au/event/friday-nights-gig-mattress/
LOCATION:122 Baylis St\, Wagga Wagga\, NSW\, 2650\, Australia
CATEGORIES:Live Music
ATTACH;FMTTYPE=image/jpeg:http://unionhotelwagga.com.au/wp-content/uploads/2016/07/mattress.jpg
END:VEVENT
END:VCALENDAR