BEGIN:VCALENDAR
VERSION:2.0
PRODID:-//Union Club Hotel - ECPv4.2.2//NONSGML v1.0//EN
CALSCALE:GREGORIAN
METHOD:PUBLISH
X-WR-CALNAME:Union Club Hotel
X-ORIGINAL-URL:http://unionhotelwagga.com.au
X-WR-CALDESC:Events for Union Club Hotel
BEGIN:VEVENT
DTSTART;TZID=Australia/Sydney:20181221T213000
DTEND;TZID=Australia/Sydney:20181221T235500
DTSTAMP:20190228T114135
CREATED:20170117T075918
LAST-MODIFIED:20181120T045918
UID:567-1545427800-1545436500@unionhotelwagga.com.au
SUMMARY:Acoustic Fridays - Pepperwood
DESCRIPTION:H Potts + J Harrison = Pepperwood. Thin crust pizza? No thankya we're from Chicago.\nAcoustic music\, yes please.
URL:http://unionhotelwagga.com.au/event/acoustic-fridays-pepperwood-2/
LOCATION:122 Baylis St\, Wagga Wagga\, NSW\, 2650\, Australia
CATEGORIES:Live Music
ATTACH;FMTTYPE=image/jpeg:http://unionhotelwagga.com.au/wp-content/uploads/2016/07/pepperwood.jpg
END:VEVENT
END:VCALENDAR