BEGIN:VCALENDAR
VERSION:2.0
PRODID:-//Union Club Hotel - ECPv4.2.2//NONSGML v1.0//EN
CALSCALE:GREGORIAN
METHOD:PUBLISH
X-WR-CALNAME:Union Club Hotel
X-ORIGINAL-URL:http://unionhotelwagga.com.au
X-WR-CALDESC:Events for Union Club Hotel
BEGIN:VEVENT
DTSTART;TZID=Australia/Sydney:20181209T180000
DTEND;TZID=Australia/Sydney:20181209T210000
DTSTAMP:20190228T113704
CREATED:20181026T001402
LAST-MODIFIED:20181120T044059
UID:1039-1544378400-1544389200@unionhotelwagga.com.au
SUMMARY:Balcony Sunday's - Sam Heffernan
DESCRIPTION:Balcony Sunday's are back!\n\nJoin us on the Balcony for Balcony Sunday's\, with Sam Heffernan playing out your weekend from 6-9pm.\n\nBalcony Sundays drink specials include:\n\n$20 Summer Buckets | $20 Somersby Buckets | $10 Cocktails\n\nSee you on the Balcony!
URL:http://unionhotelwagga.com.au/event/balcony-sundays-sam-heffernan/
LOCATION:122 Baylis Street\, Wagga Wagga\, NSW\, 2650\, Australia
CATEGORIES:Live Music
ATTACH;FMTTYPE=image/jpeg:http://unionhotelwagga.com.au/wp-content/uploads/2018/10/Sam-Heff.jpg
END:VEVENT
END:VCALENDAR