BEGIN:VCALENDAR
VERSION:2.0
PRODID:-//Union Club Hotel - ECPv4.2.2//NONSGML v1.0//EN
CALSCALE:GREGORIAN
METHOD:PUBLISH
X-WR-CALNAME:Union Club Hotel
X-ORIGINAL-URL:http://unionhotelwagga.com.au
X-WR-CALDESC:Events for Union Club Hotel
BEGIN:VEVENT
DTSTART;TZID=Australia/Sydney:20181208T213000
DTEND;TZID=Australia/Sydney:20181208T235500
DTSTAMP:20190228T113412
CREATED:20180703T055634
LAST-MODIFIED:20181120T044250
UID:899-1544304600-1544313300@unionhotelwagga.com.au
SUMMARY:Saturday Nights Band - Doc and the Fringe Dwellers
DESCRIPTION:
URL:http://unionhotelwagga.com.au/event/saturday-nights-band-doc-fringe-dwellers/
LOCATION:122 Baylis St\, Wagga Wagga\, NSW\, 2650\, Australia
CATEGORIES:Live Music
ATTACH;FMTTYPE=image/jpeg:http://unionhotelwagga.com.au/wp-content/uploads/2018/07/33524324_195940637701711_7665756706206384128_o.jpg
END:VEVENT
END:VCALENDAR