BEGIN:VCALENDAR
VERSION:2.0
PRODID:-//Union Club Hotel - ECPv4.2.2//NONSGML v1.0//EN
CALSCALE:GREGORIAN
METHOD:PUBLISH
X-WR-CALNAME:Union Club Hotel
X-ORIGINAL-URL:http://unionhotelwagga.com.au
X-WR-CALDESC:Events for Union Club Hotel
BEGIN:VEVENT
DTSTART;TZID=Australia/Sydney:20181123T213000
DTEND;TZID=Australia/Sydney:20181123T235500
DTSTAMP:20190228T122547
CREATED:20160721T040100
LAST-MODIFIED:20181026T001556
UID:397-1543008600-1543017300@unionhotelwagga.com.au
SUMMARY:Friday Night Tunes - Pepperwood
DESCRIPTION:H Potts + J Harrison = Pepperwood. Thin crust pizza? No thankya we're from Chicago.\nAcoustic music\, yes please.
URL:http://unionhotelwagga.com.au/event/friday-night-tunes-pepperwood/
CATEGORIES:Live Music
ATTACH;FMTTYPE=image/jpeg:http://unionhotelwagga.com.au/wp-content/uploads/2016/07/pepperwood.jpg
END:VEVENT
END:VCALENDAR