BEGIN:VCALENDAR
VERSION:2.0
PRODID:-//Union Club Hotel - ECPv4.2.2//NONSGML v1.0//EN
CALSCALE:GREGORIAN
METHOD:PUBLISH
X-WR-CALNAME:Union Club Hotel
X-ORIGINAL-URL:http://unionhotelwagga.com.au
X-WR-CALDESC:Events for Union Club Hotel
BEGIN:VEVENT
DTSTART;TZID=Australia/Sydney:20181106T130000
DTEND;TZID=Australia/Sydney:20181106T160000
DTSTAMP:20190228T121930
CREATED:20181018T012619
LAST-MODIFIED:20181018T012619
UID:1027-1541509200-1541520000@unionhotelwagga.com.au
SUMMARY:Melbourne Cup Afternoon
DESCRIPTION:Celebrate this Melbourne Cup Day upstairs at the Union Club Hotel!\n\nYour ticket includes roving canapés\, a drinks package for the afternoon and the best seats in the house - watching the race that stops the nation on the big screen. With full TAB facilities available upstairs\, the afternoon is a fantastic idea for an early Chrissy Party for local small businesses or smaller parties.\n\nCall the pub now to make your booking!\n\n 
URL:http://unionhotelwagga.com.au/event/melbourne-cup-afternoon/
LOCATION:122 Baylis St\, Wagga Wagga\, NSW\, 2650\, Australia
ATTACH;FMTTYPE=image/jpeg:http://unionhotelwagga.com.au/wp-content/uploads/2018/10/IMG_2096.jpg
END:VEVENT
END:VCALENDAR