BEGIN:VCALENDAR
VERSION:2.0
PRODID:-//Union Club Hotel - ECPv4.2.2//NONSGML v1.0//EN
CALSCALE:GREGORIAN
METHOD:PUBLISH
X-WR-CALNAME:Union Club Hotel
X-ORIGINAL-URL:http://unionhotelwagga.com.au
X-WR-CALDESC:Events for Union Club Hotel
BEGIN:VEVENT
DTSTART;TZID=Australia/Sydney:20190123T193000
DTEND;TZID=Australia/Sydney:20190123T220000
DTSTAMP:20190228T115508
CREATED:20180727T032309
LAST-MODIFIED:20190118T004936
UID:919-1548271800-1548280800@unionhotelwagga.com.au
SUMMARY:Quizzame - with Dane!
DESCRIPTION:Pens and paper are so 2014... with QuizzaMe each team is given a wireless buzzer with A - E on it\, a question is shown on the screen\, and there are five possible answers. The timer starts and each team locks in their answer using their buzzer.\n\nAll the questions are randomly selected by the QuizzaMe super computer and the questions are from a huge range of categories including music\, science\, history\, sport\, literature\, entertainment\, art and general knowledge. There are video\, picture and audio questions\, and built in sound-effects and graphics. You'll get instant feedback with the right answer shown after every question and with the excitement of real time live score updates you will feel like you are in your very own game show!\n\nYour knowledge doesn’t have to be at genius level to succeed at QuizzaMe. Being quick on the buzzer\, working as a team and the boldness to win bonus for you team could quickly see you conquer the scoreboard and finish champions!
URL:http://unionhotelwagga.com.au/event/quizzame-with-leigh-2/
LOCATION:122 Baylis St\, Wagga Wagga\, NSW\, 2650\, Australia
CATEGORIES:Trivia
ATTACH;FMTTYPE=image/png:http://unionhotelwagga.com.au/wp-content/uploads/2018/07/LogoQuizzame2_cut.png
END:VEVENT
END:VCALENDAR