BEGIN:VCALENDAR
VERSION:2.0
PRODID:-//Union Club Hotel - ECPv4.2.2//NONSGML v1.0//EN
CALSCALE:GREGORIAN
METHOD:PUBLISH
X-WR-CALNAME:Union Club Hotel
X-ORIGINAL-URL:http://unionhotelwagga.com.au
X-WR-CALDESC:Events for Union Club Hotel
BEGIN:VEVENT
DTSTART;TZID=Australia/Sydney:20190118T213000
DTEND;TZID=Australia/Sydney:20190118T235500
DTSTAMP:20190228T115143
CREATED:20180215T045111
LAST-MODIFIED:20190118T004337
UID:811-1547847000-1547855700@unionhotelwagga.com.au
SUMMARY:Acoustic Friday's - Nathan Lamont
DESCRIPTION:Nathan Lamont is a 20 year old singer/songwriter from Wagga Wagga\, country NSW. His love of music has sent him on to achieve many dreams.\nNathan was recently a top 36 in the APRA Professional Development Awards for songwriting.
URL:http://unionhotelwagga.com.au/event/friday-nights-gig-nathan-lamont/
LOCATION:122 Baylis St\, Wagga Wagga\, NSW\, 2650\, Australia
CATEGORIES:Live Music
ATTACH;FMTTYPE=image/jpeg:http://unionhotelwagga.com.au/wp-content/uploads/2018/02/Nathan-Lamont.jpg
END:VEVENT
END:VCALENDAR