BEGIN:VCALENDAR
VERSION:2.0
PRODID:-//Union Club Hotel - ECPv4.2.2//NONSGML v1.0//EN
CALSCALE:GREGORIAN
METHOD:PUBLISH
X-WR-CALNAME:Union Club Hotel
X-ORIGINAL-URL:http://unionhotelwagga.com.au
X-WR-CALDESC:Events for Union Club Hotel
BEGIN:VEVENT
DTSTART;TZID=Australia/Sydney:20190201T213000
DTEND;TZID=Australia/Sydney:20190201T235500
DTSTAMP:20190228T111755
CREATED:20180703T055013
LAST-MODIFIED:20190118T005435
UID:898-1549056600-1549065300@unionhotelwagga.com.au
SUMMARY:Friday Nights Duo - Who's the Boss
DESCRIPTION:
URL:http://unionhotelwagga.com.au/event/friday-nights-duo-whos-boss/
LOCATION:122 Baylis St\, Wagga Wagga\, NSW\, 2650\, Australia
CATEGORIES:Live Music
END:VEVENT
END:VCALENDAR