BEGIN:VCALENDAR
VERSION:2.0
PRODID:-//Union Club Hotel - ECPv4.2.2//NONSGML v1.0//EN
CALSCALE:GREGORIAN
METHOD:PUBLISH
X-WR-CALNAME:Union Club Hotel
X-ORIGINAL-URL:http://unionhotelwagga.com.au
X-WR-CALDESC:Events for Union Club Hotel
BEGIN:VEVENT
DTSTART;TZID=Australia/Sydney:20190215T213000
DTEND;TZID=Australia/Sydney:20190215T235500
DTSTAMP:20190228T112423
CREATED:20161213T235119
LAST-MODIFIED:20190118T011644
UID:534-1550266200-1550274900@unionhotelwagga.com.au
SUMMARY:Acoustic Fridays - Portly n Co.
DESCRIPTION:Alternative/Indie Band from the ACT who write and perform their own original songs\, that are easy to listen to no matter what mood your in.
URL:http://unionhotelwagga.com.au/event/acoustic-fridays-portly-n-co/
LOCATION:122 Baylis St\, Wagga Wagga\, NSW\, 2650\, Australia
CATEGORIES:Live Music
ATTACH;FMTTYPE=image/jpeg:http://unionhotelwagga.com.au/wp-content/uploads/2016/09/portly-and-co.jpg
END:VEVENT
END:VCALENDAR